BEGIN:VCALENDAR

VERSION:2.0

PRODID:-//hacksw/handcal//NONSGML v1.0//EN

BEGIN:VEVENT

UID:e28f4f9475b9bd0e0c2467b3cf283b67

DTSTAMP:20260424T104956Z

DTSTART:20260522T000000

DTEND:20260522T000000

SUMMARY:R2-4992116 - 18 Oceania Crescent, Sunshine Beach QLD 4567

LOCATION:18 Oceania Crescent, Sunshine Beach QLD 4567

END:VEVENT

END:VCALENDAR