BEGIN:VCALENDAR

VERSION:2.0

PRODID:-//hacksw/handcal//NONSGML v1.0//EN

BEGIN:VEVENT

UID:837be57072cd33ed84602cc2b31f8e7a

DTSTAMP:20260424T131959Z

DTSTART:20260509T100000

DTEND:20260509T103000

SUMMARY:R2-4992116 - 18 Oceania Crescent, Sunshine Beach QLD 4567

LOCATION:18 Oceania Crescent, Sunshine Beach QLD 4567

END:VEVENT

END:VCALENDAR