BEGIN:VCALENDAR

VERSION:2.0

PRODID:-//hacksw/handcal//NONSGML v1.0//EN

BEGIN:VEVENT

UID:a03b643fc52588bcdde4fff7a37bde95

DTSTAMP:20260424T131939Z

DTSTART:20260507T100000

DTEND:20260507T103000

SUMMARY:R2-4992116 - 18 Oceania Crescent, Sunshine Beach QLD 4567

LOCATION:18 Oceania Crescent, Sunshine Beach QLD 4567

END:VEVENT

END:VCALENDAR