BEGIN:VCALENDAR

VERSION:2.0

PRODID:-//hacksw/handcal//NONSGML v1.0//EN

BEGIN:VEVENT

UID:8941798b837c1cac48e343ac4eb5a6d5

DTSTAMP:20260424T132029Z

DTSTART:20260502T100000

DTEND:20260502T103000

SUMMARY:R2-4992116 - 18 Oceania Crescent, Sunshine Beach QLD 4567

LOCATION:18 Oceania Crescent, Sunshine Beach QLD 4567

END:VEVENT

END:VCALENDAR