BEGIN:VCALENDAR

VERSION:2.0

PRODID:-//hacksw/handcal//NONSGML v1.0//EN

BEGIN:VEVENT

UID:8b7ff05df1f633bd02329ff6f82343cb

DTSTAMP:20260424T132029Z

DTSTART:20260430T100000

DTEND:20260430T103000

SUMMARY:R2-4992116 - 18 Oceania Crescent, Sunshine Beach QLD 4567

LOCATION:18 Oceania Crescent, Sunshine Beach QLD 4567

END:VEVENT

END:VCALENDAR